BEGIN:VCALENDAR
VERSION:2.0
PRODID:-//Jews Engaged with Society e.V. - ECPv6.15.17//NONSGML v1.0//EN
CALSCALE:GREGORIAN
METHOD:PUBLISH
X-WR-CALNAME:Jews Engaged with Society e.V.
X-ORIGINAL-URL:https://j-e-w-s.org
X-WR-CALDESC:Events for Jews Engaged with Society e.V.
REFRESH-INTERVAL;VALUE=DURATION:PT1H
X-Robots-Tag:noindex
X-PUBLISHED-TTL:PT1H
BEGIN:VTIMEZONE
TZID:Europe/Berlin
BEGIN:DAYLIGHT
TZOFFSETFROM:+0100
TZOFFSETTO:+0200
TZNAME:CEST
DTSTART:20250330T010000
END:DAYLIGHT
BEGIN:STANDARD
TZOFFSETFROM:+0200
TZOFFSETTO:+0100
TZNAME:CET
DTSTART:20251026T010000
END:STANDARD
BEGIN:DAYLIGHT
TZOFFSETFROM:+0100
TZOFFSETTO:+0200
TZNAME:CEST
DTSTART:20260329T010000
END:DAYLIGHT
BEGIN:STANDARD
TZOFFSETFROM:+0200
TZOFFSETTO:+0100
TZNAME:CET
DTSTART:20261025T010000
END:STANDARD
BEGIN:DAYLIGHT
TZOFFSETFROM:+0100
TZOFFSETTO:+0200
TZNAME:CEST
DTSTART:20270328T010000
END:DAYLIGHT
BEGIN:STANDARD
TZOFFSETFROM:+0200
TZOFFSETTO:+0100
TZNAME:CET
DTSTART:20271031T010000
END:STANDARD
END:VTIMEZONE
BEGIN:VEVENT
DTSTART;TZID=Europe/Berlin:20260614T140000
DTEND;TZID=Europe/Berlin:20260614T150000
DTSTAMP:20260422T123213
CREATED:20260307T200740Z
LAST-MODIFIED:20260307T202507Z
UID:4345-1781445600-1781449200@j-e-w-s.org
SUMMARY:Jahreshauptversammlung (JHV)
DESCRIPTION:
URL:https://j-e-w-s.org/event/jahreshauptversammlung-jhv/
LOCATION:Bellevue di Monaco\, Müllerstraße 2\, München\, Bayern\, 80469\, Germany
ATTACH;FMTTYPE=image/png:https://j-e-w-s.org/wp-content/uploads/2021/06/logo-jews.png
ORGANIZER;CN="Jews Engaged with Society e.V.":MAILTO:shalom@j-e-w-s.org
END:VEVENT
BEGIN:VEVENT
DTSTART;TZID=Europe/Berlin:20260614T150000
DTEND;TZID=Europe/Berlin:20260614T180000
DTSTAMP:20260422T123213
CREATED:20260307T202647Z
LAST-MODIFIED:20260307T202651Z
UID:4352-1781449200-1781460000@j-e-w-s.org
SUMMARY:Jewish Party
DESCRIPTION:
URL:https://j-e-w-s.org/event/jewish-party/
LOCATION:Bellevue di Monaco\, Müllerstraße 2\, München\, Bayern\, 80469\, Germany
ATTACH;FMTTYPE=image/png:https://j-e-w-s.org/wp-content/uploads/2024/07/Screenshot-2024-07-23-at-14.24.44.png
ORGANIZER;CN="Jews Engaged with Society e.V.":MAILTO:shalom@j-e-w-s.org
END:VEVENT
END:VCALENDAR